Workbook
Name abc: OFFSET([1]SorP!$B$1,MATCH('[1]Smelter Lookup'!$G1&"*",[1]SorP!$A:$A,0)-1,0,COUNTIF([1]SorP!$A:$A,'[1]Smelter Lookup'!$G1&"*"),1)
Name CL: 'C'!$B$2:$B$250
Name dropX: 'Smelter List'!$B$2508:$B$2517
Name FromArray_1: _xlfn.ANCHORARRAY(#REF!)
Name listIndex: #REF!:INDEX(#REF!,SUMPRODUCT(--(#REF!<>"")))
Name listIndex2: #REF!:INDEX(#REF!,SUMPRODUCT(--(#REF!<>"")))
Name LN: L!$D$1:$I$1
Name Metal: 'Smelter List'!$W$3:$Z$3
Name MetalSmelter: 'Smelter Look-up'!$L$5:$L$96
Name SL: Declaration!$P$3
Name SLX: #REF!
Name SmelterdropX: Declaration!$AC$42:INDEX(Declaration!$AC$42:$AC$51,SUMPRODUCT(--(Declaration!$AC$42:$AC$51<>"")))
Name SmelterID: 'Smelter Look-up'!#REF!
Name SmelterIdetifiedForMetal: 'Smelter List'!$B$5:$B$2502
Name SN: OFFSET('Smelter Look-up'!$B$4,MATCH(!$B1,'Smelter Look-up'!$A:$A,0)-4,0,COUNTIF('Smelter Look-up'!$A:$A,!$B1),1)
Name SorP: SorP!$A$5616:$B$5661
Name SorP_List: OFFSET([2]SorP!$B$1,MATCH('[2]Smelter Lookup'!$G1&"*",[2]SorP!$A:$A,0)-1,0,COUNTIF([2]SorP!$A:$A,'[2]Smelter Lookup'!$G1&"*"),1)
Name SSLX: OFFSET('Smelter List'!$AD$4,MATCH(!$A1,'Smelter List'!$AC:$AC,0)-4,0,COUNTIF('Smelter List'!$AC:$AC,!$A1),1)
Name Ymetal: #REF!

Sheet Revision
B2: DOCUMENT TITLE
B3: Extended Mineral Reporting Template
B4: SHEET
B5: 1 of 8
B9: REVISION HISTORY
B10: • A change in the first digit of the revision number (e.g., 1.0 to 2.0) signifies that a set of major improvements have occurred and would likely include different data reporting requirements. • Changes to the first decimal places (2.10 to 2.20) indicate that minor changes have been made to the template and are not expected to result in substantial changes to the data being reported. • Changes to the second decimal places (2.10 to 2.11) indicates an even more minor change, for example an update to the smelter reference list • Changes to alpha characters (e.g., "a", or "b", or "c") following the revision number indicates that the version is an alpha or a beta version; these only appear on pre-released versions and would be dropped once the version is released to the public. A version with a letter (post version 4.xx) should not be used in commerce. RMI recommends that companies reject these versions as they are pre-release and could contain errors or other inconsistencies which could impact the accuracy of the data.
B12: REVISION | C12: ORIGINATOR | D12: RELEASE DATE | E12: DESCRIPTION OF FUNCTIONAL CHANGE | F12: UPDATES TO SMELTER LIST
B13: 1 | C13: RMI | D13: 44489 | E13: Version 1.0: The Extended Mineral Reporting Template is the updated and renamed Cobalt Reporting Template that incorporates mica within its scope. This includes updates to the Declaration tab in line with the IPC-1755A October 2021 amendment. | F13: This version incorporates changes to the standard smelter list for cobalt and includes the standard smelter list for mica as of July 28, 2021. The latest version of the Standard Smelter List is available at: https://www.responsiblemineralsinitiative.org/smelters-refiners-lists/smelter-reference-lists-export/
B14: 1.01 | C14: RMI | D14: 44523 | E14: 1. Minor revisions to correct reported issues including those related to the “Declaration”, "Checker" and "Smelter List" tabs, and Chinese and Korean translations. | F14: This version incorporates changes to the standard smelter list for cobalt and includes the standard smelter list for mica as of July 28, 2021. The latest version of the Standard Smelter List is available at: https://www.responsiblemineralsinitiative.org/smelters-refiners-lists/smelter-reference-lists-export/
B15: 1.02 | C15: RMI | D15: 44553 | E15: 1. Minor revisions to correct reported issues for Chinese translations. | F15: This version incorporates changes to the standard smelter list for cobalt and includes the standard smelter list for mica as of July 28, 2021. The latest version of the Standard Smelter List is available at: https://www.responsiblemineralsinitiative.org/smelters-refiners-lists/smelter-reference-lists-export/
B16: 1.1 | C16: RMI | D16: 44848 | E16: 1. Corrections to all bugs and errors 2. Enhancements which do not conflict with IPC-1755A such as the activation of filter/search function in the Smelter List tab. a. Update to ISO short names for countries, states / provinces 3. Updates to the Smelter Reference List and Standard Smelter List | F16: This version incorporates changes to the standard smelter lists for cobalt and mica as of July 25, 2022. The latest version of the Standard Smelter List is available at: https://www.responsiblemineralsinitiative.org/smelters-refiners-lists/smelter-reference-lists-export/
B17: 1.11 | C17: RMI | D17: 44869 | E17: 1. Minor revisions to correct reported issues including those related to the "Declaration" tab, and Chinese translations. | F17: This version incorporates changes to the standard smelter lists for cobalt and mica as of July 25, 2022. The latest version of the Standard Smelter List is available at: https://www.responsiblemineralsinitiative.org/smelters-refiners-lists/smelter-reference-lists-export/
B18: 1.2 | C18: RMI | D18: 45058 | E18: 1. Corrections to all bugs and errors. 2. Updates to the Smelter Reference List and Standard Smelter List. | F18: This version incorporates changes to the standard smelter lists for cobalt and mica as of March 27, 2023. The latest version of the Standard Smelter List is available at: https://www.responsiblemineralsinitiative.org/smelters-refiners-lists/smelter-reference-lists-export/
B19: 1.3 | C19: RMI | D19: 45408 | E19: 1. Corrections to all bugs and errors 2. Updates to highlighting on the Smelter List tabs. 3. Updates to Smelter Reference List and Standard Smelter List 4. Added German translation to file. | F19: This version incorporates changes to the standard smelter lists for cobalt and mica as of February 28, 2024. The latest version of the Standard Smelter List is available at: https://www.responsiblemineralsinitiative.org/facilities-lists/smelter-reference-lists-export/
B20: 2.0 | C20: RMI | D20: 45772 | E20: 1. Addition of four new minerals: copper, graphite (natural), lithium, and nickel. 2. Added Mine List tab. 3. Updates to Smelter Reference List and Standard Smelter List | F20: This version incorporates changes to the smelter list as reflected in the Standard Smelter List as of March 5, 2025. The latest version of the Standard Smelter List is available at: https://www.responsiblemineralsinitiative.org/facilities-lists/smelter-reference-lists-export/
B21: 2.1 | C21: RMI | D21: 45947 | E21: 1. Corrections to all bugs and errors 2. Added notice of Select Minerals/Metals in Scope 3. Change to Product List to include "Requestor's Product Number" and "Requestor's Product Name" 4. Updates to the Smelter List and Mine List tabs 5. Updates to Smelter Reference List and Standard Smelter List | F21: This version incorporates changes to the smelter list as reflected in the Standard Smelter List as of September 5, 2025. The latest version of the Standard Smelter List is available at: https://www.responsiblemineralsinitiative.org/facilities-lists/smelter-reference-lists-export/
B22: 2.11 | C22: RMI | D22: 46129 | E22: 1. Enhancements which do not conflict with IPC-1755 a. Update to ISO short names for countries, states / provinces 2. Corrected date input issue on Declaration tab 3. Updates to Smelter Reference List and Standard Smelter List | F22: This version incorporates changes to the smelter list as reflected in the Standard Smelter List as of March 11, 2026. The latest version of the Standard Smelter List is available at: https://www.responsiblemineralsinitiative.org/facilities-lists/smelter-reference-lists-export/
B23: =OFFSET(L!$C$1,MATCH("General"&"Cpy",L!$A:$A,0)-1,SL,,) -> © 2026 Responsible Minerals Initiative. All rights reserved.

Sheet Instructions
A1: =OFFSET(L!$C$1,MATCH("Instructions"&ADDRESS(ROW(),COLUMN(),4),L!$A:$A,0)-1,SL,,) -> RMI:www.responsiblemineralsinitiative.org/
A2: =OFFSET(L!$C$1,MATCH("Instructions"&ADDRESS(ROW(),COLUMN(),4),L!$A:$A,0)-1,SL,,) -> Introduction
A3: =OFFSET(L!$C$1,MATCH("Instructions"&ADDRESS(ROW(),COLUMN(),4),L!$A:$A,0)-1,SL,,) -> This Extended Mineral Reporting Template (EMRT) is a free, standardized reporting template created by the Responsible Minerals Initiative® (RMI®). The Template facilitates the transfer of information through the supply chain regarding mineral country of origin and smelters, refiners and processors being utilized and supports the exercise of due diligence in accordance with the OECD Due Diligence Guidance for Responsible Supply Chains of Minerals from Conflict-Affected and High-Risk Areas. The template also facilitates the identification of new smelters and refiners to potentially undergo an audit via the Responsible Minerals Assurance Process. The EMRT was designed for downstream companies to disclose information about their supply chains up to but not including the smelter. If you are a smelter or refiner, we recommend you enter your own name in the smelter list tab. When filling out the form, none of the cell entries should start with "=" or "#."
A5: =OFFSET(L!$C$1,MATCH("Instructions"&ADDRESS(ROW(),COLUMN(),4),L!$A:$A,0)-1,SL,,) -> Instructions for completing Company Information questions (rows 7 - 26). Provide comments in ENGLISH only
A6: =OFFSET(L!$C$1,MATCH("Instructions"&ADDRESS(ROW(),COLUMN(),4),L!$A:$A,0)-1,SL,,) -> Note: Entries with (*) are mandatory fields.
A7: =OFFSET(L!$C$1,MATCH("Instructions"&ADDRESS(ROW(),COLUMN(),4),L!$A:$A,0)-1,SL,,) -> 1. Insert your company's Legal Name. Please do not use abbreviations. In this field you have the option to add other commercial names, DBAs, etc. This field is mandatory.
A8: =OFFSET(L!$C$1,MATCH("Instructions"&ADDRESS(ROW(),COLUMN(),4),L!$A:$A,0)-1,SL,,) -> 2. Select your company's Declaration Scope. The options for scope are: A. Company-wide B. Product (or List of Products) C. User-Defined For "Company-wide", the declaration encompasses the entirety of a company's products or product substances produced by the parent company. Therefore if the user is reporting specified mineral data at the company level, they will be reporting data on all products they manufacture. For Scope selection of Product (or List of Products), a link to the worksheet tab for Product List will be displayed. If this scope is chosen, it is mandatory to list the Responder's Product Number of the products covered under the Scope of this Declaration in Column B of the Product List worksheet. It is optional to list the Responder's Product Name in Column C of the Product List worksheet. For Scope selection of "User Defined", it is mandatory that the user describes the scope to which the specified minerals disclosure is applicable. The scope of this class shall be defined in a text field by the supplier and should be easily understood by customers or the receivers of the document. As an example, companies may provide a link to clarifying information. This field is mandatory.
A9: =OFFSET(L!$C$1,MATCH("Instructions"&ADDRESS(ROW(),COLUMN(),4),L!$A:$A,0)-1,SL,,) -> 3. The requesting company is required to select all minerals that are in scope of the declaration. These fields are pre-populated with the six EMRT minerals. To remove a mineral from the declaration, the user selects "Delete [Mineral]". Minerals are automatically populated in alphabetical order for Questions 1-7 and C. This field is mandatory.
A10: =OFFSET(L!$C$1,MATCH("Instructions"&ADDRESS(ROW(),COLUMN(),4),L!$A:$A,0)-1,SL,,) -> 4. Insert your company’s unique identifier number or code (DUNS number, VAT number, customer-specific identifier, etc.)
A11: =OFFSET(L!$C$1,MATCH("Instructions"&ADDRESS(ROW(),COLUMN(),4),L!$A:$A,0)-1,SL,,) -> 5. Insert the source for the unique identifier number or code ("DUNS", "VAT", "Customer", etc).
A12: =OFFSET(L!$C$1,MATCH("Instructions"&ADDRESS(ROW(),COLUMN(),4),L!$A:$A,0)-1,SL,,) -> 6. Insert your full company address (street, city, state, country, postal code). This field is optional.
A13: =OFFSET(L!$C$1,MATCH("Instructions"&ADDRESS(ROW(),COLUMN(),4),L!$A:$A,0)-1,SL,,) -> 7. Insert the name of the person to contact regarding the contents of the declaration information. This field is mandatory.
... A88: =OFFSET(L!$C$1,MATCH("Instructions"&ADDRESS(ROW(),COLUMN(),4),L!$A:$A,0)-1,SL,,) -> By accessing and using the List or any Tool, and in consideration thereof, the User agrees to the foregoing.
A89: =OFFSET(L!$C$1,MATCH("General"&"Cpy",L!$A:$A,0)-1,SL,,) -> © 2026 Responsible Minerals Initiative. All rights reserved.
A90: Return to declaration tab
A91: Revision 2.11 April 17, 2026

Sheet Definitions
B2: =OFFSET(L!$C$1,MATCH("Definitions"&ADDRESS(ROW(),COLUMN(),4),L!$A:$A,0)-1,SL,,) -> ITEM | C2: =OFFSET(L!$C$1,MATCH("Definitions"&ADDRESS(ROW(),COLUMN(),4),L!$A:$A,0)-1,SL,,) -> DEFINITION
B3: =OFFSET(L!$C$1,MATCH("Definitions"&ADDRESS(ROW(),COLUMN(),4),L!$A:$A,0)-1,SL,,) -> Authorizer | C3: =OFFSET(L!$C$1,MATCH("Definitions"&ADDRESS(ROW(),COLUMN(),4),L!$A:$A,0)-1,SL,,) -> This field identifies the person responsible for the content of the declaration. The authorizer may be a different individual from the contact person. It is not correct to use the words ‘‘same’’ or similar identification to provide the name of the authorizer.
B4: =OFFSET(L!$C$1,MATCH("Definitions"&ADDRESS(ROW(),COLUMN(),4),L!$A:$A,0)-1,SL,,) -> Cobalt Refiner | C4: =OFFSET(L!$C$1,MATCH("Definitions"&ADDRESS(ROW(),COLUMN(),4),L!$A:$A,0)-1,SL,,) -> An entity that processes cobalt concentrates, intermediates or recycled feed and produces a cobalt product for direct use in a downstream manufacturing process.
B5: =OFFSET(L!$C$1,MATCH("Definitions"&ADDRESS(ROW(),COLUMN(),4),L!$A:$A,0)-1,SL,,) -> Conflict-Affected and High-Risk Areas (CAHRA) | C5: =OFFSET(L!$C$1,MATCH("Definitions"&ADDRESS(ROW(),COLUMN(),4),L!$A:$A,0)-1,SL,,) -> Conflict-Affected and High-Risk Areas (CAHRA) are defined by the OECD Due Diligence Guidance as "areas identified by the presence of armed conflict, widespread violence or other risks of harm to people. Armed conflict may take a variety of forms, such as a conflict of international or non-international character, which may involve two or more states, or may consist of wars of liberation, or insurgencies, civil wars, etc. High-risk areas may include areas of political instability or repression, institutional weakness, insecurity, collapse of civil infrastructure and widespread violence. Such areas are often characterised by widespread human right abuses and violations of national or international law."
B6: =OFFSET(L!$C$1,MATCH("Definitions"&ADDRESS(ROW(),COLUMN(),4),L!$A:$A,0)-1,SL,,) -> Copper Processor* | C6: =OFFSET(L!$C$1,MATCH("Definitions"&ADDRESS(ROW(),COLUMN(),4),L!$A:$A,0)-1,SL,,) -> A copper processor is a facility engaged in the transformation of copper-bearing materials into intermediate or final copper products through metallurgical, chemical, or electrochemical processes. Copper processors may operate integrated facilities or specialize in one or more stages of the copper value chain, including alloying, casting, or further fabrication.
B7: =OFFSET(L!$C$1,MATCH("Definitions"&ADDRESS(ROW(),COLUMN(),4),L!$A:$A,0)-1,SL,,) -> Declaration of Scope or Class | C7: =OFFSET(L!$C$1,MATCH("Definitions"&ADDRESS(ROW(),COLUMN(),4),L!$A:$A,0)-1,SL,,) -> For the purposes of this template, “scope” describes the applicability of the information provided by the reporting company. The scope may encompass the entirety of a company’s services and/or products, or at a company’s discretion, the template may be used to report on a specific product (or products), or, be ‘User defined’. The ‘User defined’ scope selection or class may be used to describe any subset of a company’s operation or product portfolio
B8: =OFFSET(L!$C$1,MATCH("Definitions"&ADDRESS(ROW(),COLUMN(),4),L!$A:$A,0)-1,SL,,) -> Due Diligence | C8: =OFFSET(L!$C$1,MATCH("Definitions"&ADDRESS(ROW(),COLUMN(),4),L!$A:$A,0)-1,SL,,) -> The OECD Due Diligence Guidance for Responsible Supply Chains of Minerals from Conflict-affected and High-risk Areas (OECD Guidance) defines “Due Diligence” as “an on-going, proactive and reactive process through which companies can ensure that they respect human rights and do not contribute to conflict”. More information is available at http://www.responsiblemineralsinitiative.org/training-and-resources/conflict-affected-and-high-risk-areas/.
B9: =OFFSET(L!$C$1,MATCH("Definitions"&ADDRESS(ROW(),COLUMN(),4),L!$A:$A,0)-1,SL,,) -> Graphite (Natural)* | C9: =OFFSET(L!$C$1,MATCH("Definitions"&ADDRESS(ROW(),COLUMN(),4),L!$A:$A,0)-1,SL,,) -> Natural Graphite is a naturally occurring form of crystalline carbon, found in graphite-bearing ores: flake graphite; amorphous and vein graphite. A natural graphite project or operations (Upstream actor) refers to an active industrial undertaking focused on the extraction of graphite ore and its subsequent beneficiation into graphite concentrate.
B10: =OFFSET(L!$C$1,MATCH("Definitions"&ADDRESS(ROW(),COLUMN(),4),L!$A:$A,0)-1,SL,,) -> Graphite Processor* | C10: =OFFSET(L!$C$1,MATCH("Definitions"&ADDRESS(ROW(),COLUMN(),4),L!$A:$A,0)-1,SL,,) -> A spherical graphite producer (Pinch Point) is a facility that manufactures high-purity, fine-particle graphite products—either coated or uncoated—by processing natural or synthetic graphite concentrate into spherical graphite (also known as spheroidized graphite), primarily for use in lithium-ion battery anodes.
B11: =OFFSET(L!$C$1,MATCH("Definitions"&ADDRESS(ROW(),COLUMN(),4),L!$A:$A,0)-1,SL,,) -> Independent Third-Party Audit Firm | C11: =OFFSET(L!$C$1,MATCH("Definitions"&ADDRESS(ROW(),COLUMN(),4),L!$A:$A,0)-1,SL,,) -> With respect to smelter audits, an “Independent Third-Party Audit Firm” is a private sector organization competent in evaluating the smelter or refiner’s due diligence system against a defined standard. To maintain neutrality and impartiality, such organization and its audit team members must have no conflicts of interest with the auditee. | H11: 14
B12: =OFFSET(L!$C$1,MATCH("Definitions"&ADDRESS(ROW(),COLUMN(),4),L!$A:$A,0)-1,SL,,) -> Intentionally added | C12: =OFFSET(L!$C$1,MATCH("Definitions"&ADDRESS(ROW(),COLUMN(),4),L!$A:$A,0)-1,SL,,) -> Intentionally added refers to a substance used in one or more product life cycle stage(s) intended to give a particular property, reaction or quality.
B13: =OFFSET(L!$C$1,MATCH("Definitions"&ADDRESS(ROW(),COLUMN(),4),L!$A:$A,0)-1,SL,,) -> Lithium Processor* | C13: =OFFSET(L!$C$1,MATCH("Definitions"&ADDRESS(ROW(),COLUMN(),4),L!$A:$A,0)-1,SL,,) -> A lithium processor is a facility that converts lithium-bearing materials into lithium compounds, lithium metal, or intermediates through chemical, thermal, or electrochemical processes. Processed outputs may include lithium carbonate, lithium hydroxide, lithium chloride, lithium sulfate, lithium oxide, lithium metal, or other lithium-containing intermediates used in downstream applications such as batteries, ceramics, glass, lubricants, and pharmaceuticals.
B14: =OFFSET(L!$C$1,MATCH("Definitions"&ADDRESS(ROW(),COLUMN(),4),L!$A:$A,0)-1,SL,,) -> OECD | C14: =OFFSET(L!$C$1,MATCH("Definitions"&ADDRESS(ROW(),COLUMN(),4),L!$A:$A,0)-1,SL,,) -> Organisation for Economic Co-operation and Development. The OECD has developed the OECD Due Diligence Guidance for Responsible Supply Chains. The OECD Due Diligence Guidance provides detailed recommendations to help companies respect human rights and avoid contributing to conflict through their mineral purchasing decisions and practices and uses a reasonableness approach. This Guidance is for use by any company potentially sourcing minerals or metals from conflict-affected and high-risk areas. The OECD Guidance is global in scope, and applies to all mineral supply chains. (http://mneguidelines.oecd.org/mining.htm)
B15: =OFFSET(L!$C$1,MATCH("Definitions"&ADDRESS(ROW(),COLUMN(),4),L!$A:$A,0)-1,SL,,) -> Mica (Natural) | C15: =OFFSET(L!$C$1,MATCH("Definitions"&ADDRESS(ROW(),COLUMN(),4),L!$A:$A,0)-1,SL,,) -> Natural mica is a mineral that is mined or naturally occurring, such as muscovite and phlogopite.
B16: =OFFSET(L!$C$1,MATCH("Definitions"&ADDRESS(ROW(),COLUMN(),4),L!$A:$A,0)-1,SL,,) -> Mica (Synthetic) | C16: =OFFSET(L!$C$1,MATCH("Definitions"&ADDRESS(ROW(),COLUMN(),4),L!$A:$A,0)-1,SL,,) -> Synthetic mica (fluorophlogopite) is a man-made material composed of such materials as magnesium, aluminum and silicon.
B17: =OFFSET(L!$C$1,MATCH("Definitions"&ADDRESS(ROW(),COLUMN(),4),L!$A:$A,0)-1,SL,,) -> Mica Processor | C17: =OFFSET(L!$C$1,MATCH("Definitions"&ADDRESS(ROW(),COLUMN(),4),L!$A:$A,0)-1,SL,,) -> A mica processor is an entity that takes raw mined minerals such as pegmatites (schist), feldspar, kaolin, muscovite or phlogopite and subjects them to various physical or mechanical methods to separate non-mica components from mica components, then produce grades of mica products for use in downstream manufacturing processes. Raw mineral processing can include sorting, separation, milling, grinding, cutting, stamping and binding.
B18: =OFFSET(L!$C$1,MATCH("Definitions"&ADDRESS(ROW(),COLUMN(),4),L!$A:$A,0)-1,SL,,) -> Nickel Processor* | C18: =OFFSET(L!$C$1,MATCH("Definitions"&ADDRESS(ROW(),COLUMN(),4),L!$A:$A,0)-1,SL,,) -> A nickel processor is a facility that transforms nickel-bearing materials into nickel metal, nickel alloys, or intermediates through pyrometallurgical, hydrometallurgical, or electrochemical processes. Processed products may include ferronickel, nickel pig iron (NPI), nickel matte, mixed hydroxide precipitate (MHP), mixed sulfide precipitate (MSP), nickel sulfate, or refined nickel metal.
B19: =OFFSET(L!$C$1,MATCH("Definitions"&ADDRESS(ROW(),COLUMN(),4),L!$A:$A,0)-1,SL,,) -> Processor | C19: =OFFSET(L!$C$1,MATCH("Definitions"&ADDRESS(ROW(),COLUMN(),4),L!$A:$A,0)-1,SL,,) -> A facility that performs process or processes to remove all undesirable and separate the desired elements of primary materials by concentration or purification. This includes, but is not limited to: cleaning, separation, concentrating (e.g. separate valuable minerals from unwanted gangue by mechanical, thermal or chemical means), roasting (e.g. smelting, roasting, or other means to drive off impurities), cathode and anode production and other refining processes. The terms "smelter", "refiner", and "processor" are used interchangeably throughout various publications.
B20: =OFFSET(L!$C$1,MATCH("Definitions"&ADDRESS(ROW(),COLUMN(),4),L!$A:$A,0)-1,SL,,) -> Product | C20: =OFFSET(L!$C$1,MATCH("Definitions"&ADDRESS(ROW(),COLUMN(),4),L!$A:$A,0)-1,SL,,) -> A company’s Product or Finished good is a material or item which has completed the final stage of manufacturing and/or processing and is available for distribution or sale to customers.
B21: =OFFSET(L!$C$1,MATCH("Definitions"&ADDRESS(ROW(),COLUMN(),4),L!$A:$A,0)-1,SL,,) -> Recycled or Scrap Sources | C21: =OFFSET(L!$C$1,MATCH("Definitions"&ADDRESS(ROW(),COLUMN(),4),L!$A:$A,0)-1,SL,,) -> Recycled metals are reclaimed end-user or post-consumer products, or scrap processed metals created during product manufacturing. Recycled metal includes excess, obsolete, defective, and scrap metal materials which contain refined or processed metals that are appropriate to recycle in the production of the in scope metals. Minerals partially processed, unprocessed or a bi-product from another ore are not recycled metals. Note: As of the date of this publication, there is no significant post-consumer recycling of mica.
B22: =OFFSET(L!$C$1,MATCH("Definitions"&ADDRESS(ROW(),COLUMN(),4),L!$A:$A,0)-1,SL,,) -> Responsible Business Alliance (RBA) | C22: =OFFSET(L!$C$1,MATCH("Definitions"&ADDRESS(ROW(),COLUMN(),4),L!$A:$A,0)-1,SL,,) -> Founded in 2004 the Responsible Business Alliance is the world’s largest industry coalition dedicated to electronics supply chain responsibility. (http://www.responsiblebusiness.org)
B23: =OFFSET(L!$C$1,MATCH("Definitions"&ADDRESS(ROW(),COLUMN(),4),L!$A:$A,0)-1,SL,,) -> Responsible Minerals Assurance Process (RMAP) | C23: =OFFSET(L!$C$1,MATCH("Definitions"&ADDRESS(ROW(),COLUMN(),4),L!$A:$A,0)-1,SL,,) -> The Responsible Minerals Assurance Process (RMAP) is a process developed by the RBA to enhance company capability to verify the responsible sourcing of metals. Further details of the RMAP can be found here: http://www.responsiblemineralsinitiative.org/responsible-minerals-assurance-process/.
... B27: =OFFSET(L!$C$1,MATCH("Definitions"&ADDRESS(ROW(),COLUMN(),4),L!$A:$A,0)-1,SL,,) -> Smelter Identification Number | C27: =OFFSET(L!$C$1,MATCH("Definitions"&ADDRESS(ROW(),COLUMN(),4),L!$A:$A,0)-1,SL,,) -> A unique identification number the RMI assigns to companies that have been reported by members of the supply chain as smelters or refiners, whether or not they have been verified to meet the characteristics of smelters or refiners as defined in the RMAP audit protocols or other applicable audit programs.
B28: =OFFSET(L!$C$1,MATCH("Definitions"&ADDRESS(ROW(),COLUMN(),4),L!$A:$A,0)-1,SL,,) -> * Please consult the EMRT Completion Guide for additional details on primary and secondary sources for this mineral.
B29: =OFFSET(L!$C$1,MATCH("General"&"Cpy",L!$A:$A,0)-1,SL,,) -> © 2026 Responsible Minerals Initiative. All rights reserved.

Sheet Declaration
D2: =OFFSET(L!$C$1,MATCH("Declaration"&ADDRESS(ROW(),COLUMN(),4),L!$A:$A,0)-1,SL,,) -> Extended Minerals Reporting Template (EMRT)
B3: Select Language Preference Here: 请选择你的语言: 表示言語をここから選択してください: 사용할 언어를 선택하시오: Sélectionner la langue préférée ici: Wählen sie hier die Sprache: | D3: English | J3: Revision 2.11 April 17, 2026 | P3: =MATCH($D$3,LN,0) -> 1
B4: =OFFSET(L!$C$1,MATCH("Declaration"&ADDRESS(ROW(),COLUMN(),4),L!$A:$A,0)-1,SL,,) -> The purpose of this document is to collect sourcing information on below minerals. | I4: =OFFSET(L!$C$1,MATCH("Declaration"&ADDRESS(ROW(),COLUMN(),4),L!$A:$A,0)-1,SL,,) -> Link to Terms & Conditions
A5: =LEFT(D9,1) -> C
B6: =OFFSET(L!$C$1,MATCH("Declaration"&ADDRESS(ROW(),COLUMN(),4),L!$A:$A,0)-1,SL,,) -> Mandatory fields are noted with an asterisk (*). Consult the instructions tab for guidance on how to answer each question.
B7: =OFFSET(L!$C$1,MATCH("Declaration"&ADDRESS(ROW(),COLUMN(),4),L!$A:$A,0)-1,SL,,) -> Company Information
B8: =OFFSET(L!$C$1,MATCH("Declaration"&ADDRESS(ROW(),COLUMN(),4),L!$A:$A,0)-1,SL,,) -> Company Name (*): | D8: Xiamen Hongfa Electroacoustic Co.,Ltd.
B9: =OFFSET(L!$C$1,MATCH("Declaration"&ADDRESS(ROW(),COLUMN(),4),L!$A:$A,0)-1,SL,,) -> Declaration Scope or Class (*): | D9: C. User defined [Specify in 'Description of scope'] | P9: A. Company | Q9: B. Product (or List of Products) | R9: C. User defined [Specify in 'Description of scope']
B10: =OFFSET(L!$C$1,MATCH("Declaration"&ADDRESS(ROW(),COLUMN(),4)&LEFT($D$9,1),L!$A:$A,0)-1,SL,,) -> Description of Scope: (*) | D10: Capacitor
D11: =IF(D9=Q9,OFFSET(L!$C$1,MATCH("Declaration"&ADDRESS(ROW(),COLUMN(),4),L!$A:$A,0)-1,SL,,),"") | AA11: @@@
B12: =OFFSET(L!$C$1,MATCH("Declaration"&ADDRESS(ROW(),COLUMN(),4),L!$A:$A,0)-1,SL,,) -> Select Minerals/Metals in Scope (*): | D12: Cobalt | E12: Copper | G12: Graphite | P12: =IF(ISBLANK(D12),"",IF(D12="(Delete Cobalt)",IF(ISBLANK(D14),"",D14),D12)) -> Cobalt | Q12: =IF(P13="",P12,IF(P12="",P13,IF(P12>P13,P13,P12))) -> Cobalt | R12: =Q12 -> Cobalt | S12: =IF(R13="",R12,IF(R12="",R13,IF(R12>R13,R13,R12))) -> Cobalt | T12: =S12 -> Cobalt | U12: =IF(T13="",T12,IF(T12="",T13,IF(T12>T13,T13,T12))) -> Cobalt | V12: =U12 -> Cobalt | W12: =IF(V13="",V12,IF(V12="",V13,IF(V12>V13,V13,V12))) -> Cobalt | X12: =W12 -> Cobalt | Y12: =IF(X13="",X12,IF(X12="",X13,IF(X12>X13,X13,X12))) -> Cobalt | Z12: =Y12 -> Cobalt | AA12: =Z12 -> Cobalt
B13: =OFFSET(L!$C$1,MATCH("Declaration"&ADDRESS(ROW(),COLUMN(),4),L!$A:$A,0)-1,SL,,) -> Note: The minerals selected here are reflected in questions 1-7 and C, and will be sorted in alphabetical order. Please ensure that the answers match the intended minerals. | D13: Lithium | E13: Mica | G13: Nickel | P13: =IF(ISBLANK(E12),"",IF(E12="(Delete Copper)",IF(ISBLANK(E14),"",E14),E12)) -> Copper | Q13: =IF(P13="",P13,IF(P12="",P12,IF(P12>P13,P12,P13))) -> Copper | R13: =IF(Q14="",Q13,IF(Q13="",Q14,IF(Q13>Q14,Q14,Q13))) -> Copper | S13: =IF(R13="",R13,IF(R12="",R12,IF(R12>R13,R12,R13))) -> Copper | T13: =IF(S14="",S13,IF(S13="",S14,IF(S13>S14,S14,S13))) -> Copper | U13: =IF(T13="",T13,IF(T12="",T12,IF(T12>T13,T12,T13))) -> Copper | V13: =IF(U14="",U13,IF(U13="",U14,IF(U13>U14,U14,U13))) -> Copper | W13: =IF(V13="",V13,IF(V12="",V12,IF(V12>V13,V12,V13))) -> Copper | X13: =IF(W14="",W13,IF(W13="",W14,IF(W13>W14,W14,W13))) -> Copper | Y13: =IF(X13="",X13,IF(X12="",X12,IF(X12>X13,X12,X13))) -> Copper | Z13: =IF(Y14="",Y13,IF(Y13="",Y14,IF(Y13>Y14,Y14,Y13))) -> Copper | AA13: {=_xlfn.IFNA(INDEX($Z$12:$Z$21,MATCH(0,COUNTIF($AA$12:$AA12,$Z$12:$Z$21),0)),"")} -> Copper
P14: =IF(ISBLANK(G12),"",IF(G12="(Delete Graphite)",IF(ISBLANK(G14),"",G14),G12)) -> Graphite | Q14: =IF(P15="",P14,IF(P14="",P15,IF(P14>P15,P15,P14))) -> Graphite | R14: =IF(Q14="",Q14,IF(Q13="",Q13,IF(Q13>Q14,Q13,Q14))) -> Graphite | S14: =IF(R15="",R14,IF(R14="",R15,IF(R14>R15,R15,R14))) -> Graphite | T14: =IF(S14="",S14,IF(S13="",S13,IF(S13>S14,S13,S14))) -> Graphite | U14: =IF(T15="",T14,IF(T14="",T15,IF(T14>T15,T15,T14))) -> Graphite | V14: =IF(U14="",U14,IF(U13="",U13,IF(U13>U14,U13,U14))) -> Graphite | W14: =IF(V15="",V14,IF(V14="",V15,IF(V14>V15,V15,V14))) -> Graphite | X14: =IF(W14="",W14,IF(W13="",W13,IF(W13>W14,W13,W14))) -> Graphite | Y14: =IF(X15="",X14,IF(X14="",X15,IF(X14>X15,X15,X14))) -> Graphite | Z14: =IF(Y14="",Y14,IF(Y13="",Y13,IF(Y13>Y14,Y13,Y14))) -> Graphite | AA14: {=_xlfn.IFNA(INDEX($Z$12:$Z$21,MATCH(0,COUNTIF($AA$12:$AA13,$Z$12:$Z$21),0)),"")} -> Graphite
P15: =IF(ISBLANK(H12),"",IF(H12="(Delete)",IF(ISBLANK(H14),"",H14),H12)) | Q15: =IF(P15="",P15,IF(P14="",P14,IF(P14>P15,P14,P15))) | R15: =IF(Q16="",Q15,IF(Q15="",Q16,IF(Q15>Q16,Q16,Q15))) -> Lithium | S15: =IF(R15="",R15,IF(R14="",R14,IF(R14>R15,R14,R15))) -> Lithium | T15: =IF(S16="",S15,IF(S15="",S16,IF(S15>S16,S16,S15))) -> Lithium | U15: =IF(T15="",T15,IF(T14="",T14,IF(T14>T15,T14,T15))) -> Lithium | V15: =IF(U16="",U15,IF(U15="",U16,IF(U15>U16,U16,U15))) -> Lithium | W15: =IF(V15="",V15,IF(V14="",V14,IF(V14>V15,V14,V15))) -> Lithium | X15: =IF(W16="",W15,IF(W15="",W16,IF(W15>W16,W16,W15))) -> Lithium | Y15: =IF(X15="",X15,IF(X14="",X14,IF(X14>X15,X14,X15))) -> Lithium | Z15: =IF(Y16="",Y15,IF(Y15="",Y16,IF(Y15>Y16,Y16,Y15))) -> Lithium | AA15: {=_xlfn.IFNA(INDEX($Z$12:$Z$21,MATCH(0,COUNTIF($AA$12:$AA14,$Z$12:$Z$21),0)),"")} -> Lithium
B16: =OFFSET(L!$C$1,MATCH("Declaration"&ADDRESS(ROW(),COLUMN(),4),L!$A:$A,0)-1,SL,,) -> Company Unique ID: | P16: =IF(ISBLANK(I12),"",IF(I12="(Delete)",IF(ISBLANK(I14),"",I14),I12)) | Q16: =IF(P17="",P16,IF(P16="",P17,IF(P16>P17,P17,P16))) -> Lithium | R16: =IF(Q16="",Q16,IF(Q15="",Q15,IF(Q15>Q16,Q15,Q16))) | S16: =IF(R17="",R16,IF(R16="",R17,IF(R16>R17,R17,R16))) -> Mica | T16: =IF(S16="",S16,IF(S15="",S15,IF(S15>S16,S15,S16))) -> Mica | U16: =IF(T17="",T16,IF(T16="",T17,IF(T16>T17,T17,T16))) -> Mica | V16: =IF(U16="",U16,IF(U15="",U15,IF(U15>U16,U15,U16))) -> Mica | W16: =IF(V17="",V16,IF(V16="",V17,IF(V16>V17,V17,V16))) -> Mica | X16: =IF(W16="",W16,IF(W15="",W15,IF(W15>W16,W15,W16))) -> Mica | Y16: =IF(X17="",X16,IF(X16="",X17,IF(X16>X17,X17,X16))) -> Mica | Z16: =IF(Y16="",Y16,IF(Y15="",Y15,IF(Y15>Y16,Y15,Y16))) -> Mica | AA16: {=_xlfn.IFNA(INDEX($Z$12:$Z$21,MATCH(0,COUNTIF($AA$12:$AA15,$Z$12:$Z$21),0)),"")} -> Mica
B17: =OFFSET(L!$C$1,MATCH("Declaration"&ADDRESS(ROW(),COLUMN(),4),L!$A:$A,0)-1,SL,,) -> Company Unique ID Authority: | P17: =IF(ISBLANK(D13),"",IF(D13="(Delete Lithium)",IF(ISBLANK(D15),"",D15),D13)) -> Lithium | Q17: =IF(P17="",P17,IF(P16="",P16,IF(P16>P17,P16,P17))) | R17: =IF(Q18="",Q17,IF(Q17="",Q18,IF(Q17>Q18,Q18,Q17))) -> Mica | S17: =IF(R17="",R17,IF(R16="",R16,IF(R16>R17,R16,R17))) | T17: =IF(S18="",S17,IF(S17="",S18,IF(S17>S18,S18,S17))) -> Nickel | U17: =IF(T17="",T17,IF(T16="",T16,IF(T16>T17,T16,T17))) -> Nickel | V17: =IF(U18="",U17,IF(U17="",U18,IF(U17>U18,U18,U17))) -> Nickel | W17: =IF(V17="",V17,IF(V16="",V16,IF(V16>V17,V16,V17))) -> Nickel | X17: =IF(W18="",W17,IF(W17="",W18,IF(W17>W18,W18,W17))) -> Nickel | Y17: =IF(X17="",X17,IF(X16="",X16,IF(X16>X17,X16,X17))) -> Nickel | Z17: =IF(Y18="",Y17,IF(Y17="",Y18,IF(Y17>Y18,Y18,Y17))) -> Nickel | AA17: {=_xlfn.IFNA(INDEX($Z$12:$Z$21,MATCH(0,COUNTIF($AA$12:$AA16,$Z$12:$Z$21),0)),"")} -> Nickel
B18: =OFFSET(L!$C$1,MATCH("Declaration"&ADDRESS(ROW(),COLUMN(),4),L!$A:$A,0)-1,SL,,) -> Address: | P18: =IF(ISBLANK(E13),"",IF(E13="(Delete Mica)",IF(ISBLANK(E15),"",E15),E13)) -> Mica | Q18: =IF(P19="",P18,IF(P18="",P19,IF(P18>P19,P19,P18))) -> Mica | R18: =IF(Q18="",Q18,IF(Q17="",Q17,IF(Q17>Q18,Q17,Q18))) | S18: =IF(R19="",R18,IF(R18="",R19,IF(R18>R19,R19,R18))) -> Nickel | T18: =IF(S18="",S18,IF(S17="",S17,IF(S17>S18,S17,S18))) | U18: =IF(T19="",T18,IF(T18="",T19,IF(T18>T19,T19,T18))) | V18: =IF(U18="",U18,IF(U17="",U17,IF(U17>U18,U17,U18))) | W18: =IF(V19="",V18,IF(V18="",V19,IF(V18>V19,V19,V18))) | X18: =IF(W18="",W18,IF(W17="",W17,IF(W17>W18,W17,W18))) | Y18: =IF(X19="",X18,IF(X18="",X19,IF(X18>X19,X19,X18))) | Z18: =IF(Y18="",Y18,IF(Y17="",Y17,IF(Y17>Y18,Y17,Y18))) | AA18: {=_xlfn.IFNA(INDEX($Z$12:$Z$21,MATCH(0,COUNTIF($AA$12:$AA17,$Z$12:$Z$21),0)),"")}
B19: =OFFSET(L!$C$1,MATCH("Declaration"&ADDRESS(ROW(),COLUMN(),4),L!$A:$A,0)-1,SL,,) -> Contact Name (*): | D19: Shufang Zhong | P19: =IF(ISBLANK(G13),"",IF(G13="(Delete Nickel)",IF(ISBLANK(G15),"",G15),G13)) -> Nickel | Q19: =IF(P19="",P19,IF(P18="",P18,IF(P18>P19,P18,P19))) -> Nickel | R19: =IF(Q20="",Q19,IF(Q19="",Q20,IF(Q19>Q20,Q20,Q19))) -> Nickel | S19: =IF(R19="",R19,IF(R18="",R18,IF(R18>R19,R18,R19))) | T19: =IF(S20="",S19,IF(S19="",S20,IF(S19>S20,S20,S19))) | U19: =IF(T19="",T19,IF(T18="",T18,IF(T18>T19,T18,T19))) | V19: =IF(U20="",U19,IF(U19="",U20,IF(U19>U20,U20,U19))) | W19: =IF(V19="",V19,IF(V18="",V18,IF(V18>V19,V18,V19))) | X19: =IF(W20="",W19,IF(W19="",W20,IF(W19>W20,W20,W19))) | Y19: =IF(X19="",X19,IF(X18="",X18,IF(X18>X19,X18,X19))) | Z19: =IF(Y20="",Y19,IF(Y19="",Y20,IF(Y19>Y20,Y20,Y19))) | AA19: {=_xlfn.IFNA(INDEX($Z$12:$Z$21,MATCH(0,COUNTIF($AA$12:$AA18,$Z$12:$Z$21),0)),"")}
B20: =OFFSET(L!$C$1,MATCH("Declaration"&ADDRESS(ROW(),COLUMN(),4),L!$A:$A,0)-1,SL,,) -> Email – Contact (*): | D20: marketing@hongfa.com | P20: =IF(ISBLANK(H13),"",IF(H13="(Delete)",IF(ISBLANK(H15),"",H15),H13)) | Q20: =IF(P21="",P20,IF(P20="",P21,IF(P20>P21,P21,P20))) | R20: =IF(Q20="",Q20,IF(Q19="",Q19,IF(Q19>Q20,Q19,Q20))) | S20: =IF(R21="",R20,IF(R20="",R21,IF(R20>R21,R21,R20))) | T20: =IF(S20="",S20,IF(S19="",S19,IF(S19>S20,S19,S20))) | U20: =IF(T21="",T20,IF(T20="",T21,IF(T20>T21,T21,T20))) | V20: =IF(U20="",U20,IF(U19="",U19,IF(U19>U20,U19,U20))) | W20: =IF(V21="",V20,IF(V20="",V21,IF(V20>V21,V21,V20))) | X20: =IF(W20="",W20,IF(W19="",W19,IF(W19>W20,W19,W20))) | Y20: =IF(X21="",X20,IF(X20="",X21,IF(X20>X21,X21,X20))) | Z20: =IF(Y20="",Y20,IF(Y19="",Y19,IF(Y19>Y20,Y19,Y20))) | AA20: {=_xlfn.IFNA(INDEX($Z$12:$Z$21,MATCH(0,COUNTIF($AA$12:$AA19,$Z$12:$Z$21),0)),"")}
B21: =OFFSET(L!$C$1,MATCH("Declaration"&ADDRESS(ROW(),COLUMN(),4),L!$A:$A,0)-1,SL,,) -> Phone – Contact (*): | D21: +86 592 6106688 | P21: =IF(ISBLANK(I13),"",IF(I13="(Delete)",IF(ISBLANK(I15),"",I15),I13)) | Q21: =IF(P21="",P21,IF(P20="",P20,IF(P20>P21,P20,P21))) | R21: =Q21 | S21: =IF(R21="",R21,IF(R20="",R20,IF(R20>R21,R20,R21))) | T21: =S21 | U21: =IF(T21="",T21,IF(T20="",T20,IF(T20>T21,T20,T21))) | V21: =U21 | W21: =IF(V21="",V21,IF(V20="",V20,IF(V20>V21,V20,V21))) | X21: =W21 | Y21: =IF(X21="",X21,IF(X20="",X20,IF(X20>X21,X20,X21))) | Z21: =Y21 | AA21: {=_xlfn.IFNA(INDEX($Z$12:$Z$21,MATCH(0,COUNTIF($AA$12:$AA20,$Z$12:$Z$21),0)),"")}
B22: =OFFSET(L!$C$1,MATCH("Declaration"&ADDRESS(ROW(),COLUMN(),4),L!$A:$A,0)-1,SL,,) -> Authorizer (*): | D22: Ningyi Lu | AA22: =10-COUNTIF(AA12:AA21,"") -> 6
B23: =OFFSET(L!$C$1,MATCH("Declaration"&ADDRESS(ROW(),COLUMN(),4),L!$A:$A,0)-1,SL,,) -> Title - Authorizer: | AA23: =IF(AA22=0,0.1,AA22) -> 6
B24: =OFFSET(L!$C$1,MATCH("Declaration"&ADDRESS(ROW(),COLUMN(),4),L!$A:$A,0)-1,SL,,) -> Email - Authorizer (*): | D24: marketing@hongfa.com
B25: =OFFSET(L!$C$1,MATCH("Declaration"&ADDRESS(ROW(),COLUMN(),4),L!$A:$A,0)-1,SL,,) -> Phone - Authorizer: | D25: +86 592 6106688
B26: =OFFSET(L!$C$1,MATCH("Declaration"&ADDRESS(ROW(),COLUMN(),4),L!$A:$A,0)-1,SL,,) -> Effective Date (*): | D26: 46177
B28: =OFFSET(L!$C$1,MATCH("Declaration"&ADDRESS(ROW(),COLUMN(),4),L!$A:$A,0)-1,SL,,) -> Answer the following questions 1 - 7 based on the declaration scope indicated above
B29: =OFFSET(L!$C$1,MATCH("Declaration"&ADDRESS(ROW(),COLUMN(),4),L!$A:$A,0)-1,SL,,) -> 1) Is any of the specified mineral/metal intentionally added or used in the product(s) or in the production process? (*) | D29: =OFFSET(L!$C$1,MATCH("Declaration"&ADDRESS(ROW(),COLUMN(),4),L!$A:$A,0)-1,SL,,) -> Answer | G29: =OFFSET(L!$C$1,MATCH("Declaration"&ADDRESS(ROW(),COLUMN(),4),L!$A:$A,0)-1,SL,,) -> Comments
B30: =IF(COUNTBLANK(AA12),"",AA12&"(*)") -> Cobalt(*) | D30: No | M30: =IF(AND(B30="",D30<>""),1,0) -> 0 | O30: =IF(B30="","","(*)") -> (*) | P30: =IF(D30="Yes","(*)","") | Q30: =IF(D42="Yes","(*)","")
B31: =IF(COUNTBLANK(AA13),"",AA13&"(*)") -> Copper(*) | D31: Yes | M31: =IF(AND(B31="",D31<>""),1,0) -> 0 | O31: =IF(B31="","","(*)") -> (*) | P31: =IF(D31="Yes","(*)","") -> (*) | Q31: =IF(D43="Yes","(*)","") -> (*)
B32: =IF(COUNTBLANK(AA14),"",AA14&"(*)") -> Graphite(*) | D32: No | M32: =IF(AND(B32="",D32<>""),1,0) -> 0 | O32: =IF(B32="","","(*)") -> (*) | P32: =IF(D32="Yes","(*)","") | Q32: =IF(D44="Yes","(*)","")
B33: =IF(COUNTBLANK(AA15),"",AA15&"(*)") -> Lithium(*) | D33: No | M33: =IF(AND(B33="",D33<>""),1,0) -> 0 | O33: =IF(B33="","","(*)") -> (*) | P33: =IF(D33="Yes","(*)","") | Q33: =IF(D45="Yes","(*)","")
B34: =IF(COUNTBLANK(AA16),"",AA16&"(*)") -> Mica(*) | D34: No | M34: =IF(AND(B34="",D34<>""),1,0) -> 0 | O34: =IF(B34="","","(*)") -> (*) | P34: =IF(D34="Yes","(*)","") | Q34: =IF(D46="Yes","(*)","")
B35: =IF(COUNTBLANK(AA17),"",AA17&"(*)") -> Nickel(*) | D35: Yes | M35: =IF(AND(B35="",D35<>""),1,0) -> 0 | O35: =IF(B35="","","(*)") -> (*) | P35: =IF(D35="Yes","(*)","") -> (*) | Q35: =IF(D47="Yes","(*)","") -> (*)
B36: =IF(COUNTBLANK(AA18),"",AA18&"(*)") | M36: =IF(AND(B36="",D36<>""),1,0) -> 0 | O36: =IF(B36="","","(*)") | P36: =IF(D36="Yes","(*)","") | Q36: =IF(D48="Yes","(*)","")
B37: =IF(COUNTBLANK(AA19),"",AA19&"(*)") | M37: =IF(AND(B37="",D37<>""),1,0) -> 0 | O37: =IF(B37="","","(*)") | P37: =IF(D37="Yes","(*)","") | Q37: =IF(D49="Yes","(*)","")
B38: =IF(COUNTBLANK(AA20),"",AA20&"(*)") | M38: =IF(AND(B38="",D38<>""),1,0) -> 0 | O38: =IF(B38="","","(*)") | P38: =IF(D38="Yes","(*)","") | Q38: =IF(D50="Yes","(*)","")
B39: =IF(COUNTBLANK(AA21),"",AA21&"(*)") | M39: =IF(AND(B39="",D39<>""),1,0) -> 0 | O39: =IF(B39="","","(*)") | P39: =IF(D39="Yes","(*)","") | Q39: =IF(D51="Yes","(*)","")
B41: =OFFSET(L!$C$1,MATCH("Declaration"&ADDRESS(ROW(),COLUMN(),4),L!$A:$A,0)-1,SL,,)&Q41 -> 2) Does any of the specified mineral/metal remain in the product(s)? (*) | D41: =D29 -> Answer | G41: =G29 -> Comments | P41: =COUNTIF(D$30:E$39,"No")+COUNTIF(D$30:E$39,"Unknown")+COUNTIF(D$30:E$39,"Not declaring") -> 4 | Q41: =IF(P41=AA23,"","(*)") -> (*)
B42: =IF(ISERROR(AA12),"",AA12&"")&P42 -> Cobalt | M42: =IF(AND(B42="",D42<>""),1,0) -> 0 | P42: =IF(OR(D30="No",D30="Unknown",D30="Not declaring"),"",O30) | S42: =IF(COUNTIF(D42,"Yes"),AA12,"") | T42: =IF(S43="",S42,IF(S42="",S43,IF(S42>S43,S43,S42))) -> Copper | U42: =T42 -> Copper | V42: =IF(U43="",U42,IF(U42="",U43,IF(U42>U43,U43,U42))) -> Copper | W42: =V42 -> Copper | X42: =IF(W43="",W42,IF(W42="",W43,IF(W42>W43,W43,W42))) -> Copper | Y42: =X42 -> Copper | Z42: =IF(Y43="",Y42,IF(Y42="",Y43,IF(Y42>Y43,Y43,Y42))) -> Copper | AA42: =Z42 -> Copper | AB42: =IF(AA43="",AA42,IF(AA42="",AA43,IF(AA42>AA43,AA43,AA42))) -> Copper | AC42: =AB42 -> Copper
B43: =IF(ISERROR(AA13),"",AA13&"")&P43 -> Copper(*) | D43: Yes | M43: =IF(AND(B43="",D43<>""),1,0) -> 0 | P43: =IF(OR(D31="No",D31="Unknown",D31="Not declaring"),"",O31) -> (*) | S43: =IF(COUNTIF(D43,"Yes"),AA13,"") -> Copper | T43: =IF(S43="",S43,IF(S42="",S42,IF(S42>S43,S42,S43))) | U43: =IF(T44="",T43,IF(T43="",T44,IF(T43>T44,T44,T43))) | V43: =IF(U43="",U43,IF(U42="",U42,IF(U42>U43,U42,U43))) | W43: =IF(V44="",V43,IF(V43="",V44,IF(V43>V44,V44,V43))) -> Nickel | X43: =IF(W43="",W43,IF(W42="",W42,IF(W42>W43,W42,W43))) -> Nickel | Y43: =IF(X44="",X43,IF(X43="",X44,IF(X43>X44,X44,X43))) -> Nickel | Z43: =IF(Y43="",Y43,IF(Y42="",Y42,IF(Y42>Y43,Y42,Y43))) -> Nickel | AA43: =IF(Z44="",Z43,IF(Z43="",Z44,IF(Z43>Z44,Z44,Z43))) -> Nickel | AB43: =IF(AA43="",AA43,IF(AA42="",AA42,IF(AA42>AA43,AA42,AA43))) -> Nickel | AC43: =IF(AB44="",AB43,IF(AB43="",AB44,IF(AB43>AB44,AB44,AB43))) -> Nickel
...

Sheet Smelter List
U1: z
B2: =OFFSET(L!$C$1,MATCH("Smelter List"&ADDRESS(ROW(),COLUMN(),4),L!$A:$A,0)-1,SL,,) -> TO BEGIN: | J2: =OFFSET(L!$C$1,MATCH("Smelter List"&ADDRESS(ROW(),COLUMN(),4),L!$A:$A,0)-1,SL,,) -> Link to "RMAP Conformant Smelter List" | AH2: Yes
B3: =OFFSET(L!$C$1,MATCH("Smelter List"&ADDRESS(ROW(),COLUMN(),4),L!$A:$A,0)-1,SL,,) -> Option A: If you know the Smelter Identification Number, input the number in Column A (columns B, C, E, F, G, I and J will auto-populate); D will grey out. Option B: If you have a Metal and Smelter Look-up name combination, complete the following steps: Step 1. Select Metal in column B Step 2. Select from dropdown in column C Option C: If you have minerals and Smelter Name combination, complete the following steps: Step 1. Select Minerals in column B Step 2: Select "Smelter Not Listed" in the Smelter Look-up drop down and complete columns D & E Step 3. Enter all available smelter information in columns H through Q (*) Mandatory fields are noted with an asterisk. (1) Entry required when Smelter Look-up = "Smelter Not Listed" NOTE: A combination of Options A, B and C may be used to complete the Smelter List. Do not alter autopopulated cells. All errors in the Smelter Look-up should be reported to RBA by contacting RMI@ResponsibleBusiness.org. | G3: =OFFSET(L!$C$1,MATCH("General"&"Cpy",L!$A:$A,0)-1,SL,,) -> © 2026 Responsible Minerals Initiative. All rights reserved. | Q3: Revision 2.11 April 17, 2026 | AH3: No
A4: =OFFSET(L!$C$1,MATCH("Smelter List"&ADDRESS(ROW(),COLUMN(),4),L!$A:$A,0)-1,SL,,) -> Smelter Identification Number Input Column | B4: =OFFSET(L!$C$1,MATCH("Smelter List"&ADDRESS(ROW(),COLUMN(),4),L!$A:$A,0)-1,SL,,) -> Metal (*) | C4: =OFFSET(L!$C$1,MATCH("Smelter List"&ADDRESS(ROW(),COLUMN(),4),L!$A:$A,0)-1,SL,,) -> Smelter Look-up (*) | D4: =OFFSET(L!$C$1,MATCH("Smelter List"&ADDRESS(ROW(),COLUMN(),4),L!$A:$A,0)-1,SL,,) -> Smelter Name (1) | E4: =OFFSET(L!$C$1,MATCH("Smelter List"&ADDRESS(ROW(),COLUMN(),4),L!$A:$A,0)-1,SL,,) -> Smelter Country (*) | F4: =OFFSET(L!$C$1,MATCH("Smelter List"&ADDRESS(ROW(),COLUMN(),4),L!$A:$A,0)-1,SL,,) -> Smelter Identification | G4: =OFFSET(L!$C$1,MATCH("Smelter List"&ADDRESS(ROW(),COLUMN(),4),L!$A:$A,0)-1,SL,,) -> Source of Smelter Identification Number | H4: =OFFSET(L!$C$1,MATCH("Smelter List"&ADDRESS(ROW(),COLUMN(),4),L!$A:$A,0)-1,SL,,) -> Smelter Street | ... Q4: =OFFSET(L!$C$1,MATCH("Smelter List"&ADDRESS(ROW(),COLUMN(),4),L!$A:$A,0)-1,SL,,) -> Comments | R4: Standard Smelter Name | S4: Country Code | T4: State / Province Code | W4: Smelter not yet identified | X4: Smelter Not Listed | AC4: Combined Metal | AD4: Combined Smelter | AH4: Unknown
A5: CID003928 | B5: =IF(LEN(A5)=0,"",INDEX('Smelter Look-up'!$A:$A,MATCH($A5,'Smelter Look-up'!$E:$E,0))) -> Nickel | C5: =IF(LEN(A5)=0,"",INDEX('Smelter Look-up'!$C:$C,MATCH($A5,'Smelter Look-up'!$E:$E,0))) -> Murrin Murrin Nickel Cobalt Plant | E5: =IF(ISERROR($V5),"",OFFSET('Smelter Look-up'!$D$4,$V5-4,0)&"") -> AUSTRALIA | F5: =IF(ISERROR($V5),"",OFFSET('Smelter Look-up'!$E$4,$V5-4,0)) -> CID003928 | G5: =IF(C5=$X$4,"Enter smelter details",IF(ISERROR($V5),"",OFFSET('Smelter Look-up'!$F$4,$V5-4,0))) -> RMI | H5: =IF(ISERROR($V5),"",OFFSET('Smelter Look-up'!$G$4,$V5-4,0)) -> 0 | I5: =IF(ISERROR($V5),"",OFFSET('Smelter Look-up'!$H$4,$V5-4,0)) -> Perth | J5: =IF(ISERROR($V5),"",OFFSET('Smelter Look-up'!$I$4,$V5-4,0)) -> Western Australia | R5: =IF(ISERROR($V5),"",OFFSET('Smelter Look-up'!$C$4,$V5-4,0)&"") -> Murrin Murrin Nickel Cobalt Plant | S5: =IF(B5="","",IF(ISERROR(MATCH($E5,CL,0)),"Unknown",INDIRECT("'C'!$A$"&MATCH($E5,CL,0)+1))) -> AU | T5: =IF(B5="","",IF(ISERROR(MATCH($J5,SorP!$B$1:$B$6261,0)),"",INDIRECT("'SorP'!$A$"&MATCH($S5&$J5,SorP!C:C,0)))) -> AU-WA | V5: =IF(C5="",NA(),MATCH($B5&$C5,'Smelter Look-up'!$J:$J,0)) -> 560 | X5: =IF(AND(C5="Smelter not listed",OR(LEN(D5)=0,LEN(E5)=0)),1,0) -> 0 | AB5: =IF(C5="","",B5) -> Nickel | AC5: =B5 -> Nickel | AD5: =IF(C5="Smelter not listed",D5,C5) -> Murrin Murrin Nickel Cobalt Plant
A6: CID005175 | B6: =IF(LEN(A6)=0,"",INDEX('Smelter Look-up'!$A:$A,MATCH($A6,'Smelter Look-up'!$E:$E,0))) -> Nickel | C6: Hunan CNGR New Energy Science & Technology Co., Ltd. | E6: =IF(ISERROR($V6),"",OFFSET('Smelter Look-up'!$D$4,$V6-4,0)&"") -> CHINA | F6: =IF(ISERROR($V6),"",OFFSET('Smelter Look-up'!$E$4,$V6-4,0)) -> CID005175 | G6: =IF(C6=$X$4,"Enter smelter details",IF(ISERROR($V6),"",OFFSET('Smelter Look-up'!$F$4,$V6-4,0))) -> RMI | H6: =IF(ISERROR($V6),"",OFFSET('Smelter Look-up'!$G$4,$V6-4,0)) -> 0 | I6: =IF(ISERROR($V6),"",OFFSET('Smelter Look-up'!$H$4,$V6-4,0)) -> Changsha | J6: =IF(ISERROR($V6),"",OFFSET('Smelter Look-up'!$I$4,$V6-4,0)) -> Hunan Sheng | R6: =IF(ISERROR($V6),"",OFFSET('Smelter Look-up'!$C$4,$V6-4,0)&"") -> Hunan CNGR New Energy Science & Technology Co., Ltd. | S6: =IF(B6="","",IF(ISERROR(MATCH($E6,CL,0)),"Unknown",INDIRECT("'C'!$A$"&MATCH($E6,CL,0)+1))) -> CN | T6: =IF(B6="","",IF(ISERROR(MATCH($J6,SorP!$B$1:$B$6261,0)),"",INDIRECT("'SorP'!$A$"&MATCH($S6&$J6,SorP!C:C,0)))) -> CN-HN | V6: =IF(C6="",NA(),MATCH($B6&$C6,'Smelter Look-up'!$J:$J,0)) -> 536 | X6: =IF(AND(C6="Smelter not listed",OR(LEN(D6)=0,LEN(E6)=0)),1,0) -> 0 | AB6: =IF(C6="","",B6) -> Nickel | AC6: =B6 -> Nickel | AD6: =IF(C6="Smelter not listed",D6,C6) -> Hunan CNGR New Energy Science & Technology Co., Ltd.
A7: CID004566 | B7: Nickel | C7: Jiangxi Rui da Xinnengyuan Technology Co., Ltd. | E7: =IF(ISERROR($V7),"",OFFSET('Smelter Look-up'!$D$4,$V7-4,0)&"") -> CHINA | F7: =IF(ISERROR($V7),"",OFFSET('Smelter Look-up'!$E$4,$V7-4,0)) -> CID004566 | G7: =IF(C7=$X$4,"Enter smelter details",IF(ISERROR($V7),"",OFFSET('Smelter Look-up'!$F$4,$V7-4,0))) -> RMI | H7: =IF(ISERROR($V7),"",OFFSET('Smelter Look-up'!$G$4,$V7-4,0)) -> 0 | I7: =IF(ISERROR($V7),"",OFFSET('Smelter Look-up'!$H$4,$V7-4,0)) -> Yichun | J7: =IF(ISERROR($V7),"",OFFSET('Smelter Look-up'!$I$4,$V7-4,0)) -> Jiangxi Sheng | R7: =IF(ISERROR($V7),"",OFFSET('Smelter Look-up'!$C$4,$V7-4,0)&"") -> Jiangxi Ruida New Energy Technology Co., Ltd. | S7: =IF(#REF!="","",IF(ISERROR(MATCH(#REF!,CL,0)),"Unknown",INDIRECT("'C'!$A$"&MATCH(#REF!,CL,0)+1))) -> #REF! | T7: =IF(B7="","",IF(ISERROR(MATCH($J7,SorP!$B$1:$B$6261,0)),"",INDIRECT("'SorP'!$A$"&MATCH($S7&$J7,SorP!C:C,0)))) -> #REF! | V7: =IF(C7="",NA(),MATCH($B7&$C7,'Smelter Look-up'!$J:$J,0)) -> 548 | X7: =IF(AND(C7="Smelter not listed",OR(LEN(D7)=0,LEN(E7)=0)),1,0) -> 0 | AB7: =IF(C7="","",B7) -> Nickel | AC7: =B7 -> Nickel | AD7: =IF(C7="Smelter not listed",D7,C7) -> Jiangxi Rui da Xinnengyuan Technology Co., Ltd.
A8: CID003878 | B8: Copper | C8: Toyo Smelter & Refinery, Sumitomo Metal Mining | E8: =IF(ISERROR($V8),"",OFFSET('Smelter Look-up'!$D$4,$V8-4,0)&"") -> JAPAN | F8: =IF(ISERROR($V8),"",OFFSET('Smelter Look-up'!$E$4,$V8-4,0)) -> CID003878 | G8: =IF(C8=$X$4,"Enter smelter details",IF(ISERROR($V8),"",OFFSET('Smelter Look-up'!$F$4,$V8-4,0))) -> RMI | H8: =IF(ISERROR($V8),"",OFFSET('Smelter Look-up'!$G$4,$V8-4,0)) -> 0 | I8: =IF(ISERROR($V8),"",OFFSET('Smelter Look-up'!$H$4,$V8-4,0)) -> Saijyo | J8: =IF(ISERROR($V8),"",OFFSET('Smelter Look-up'!$I$4,$V8-4,0)) -> Ehime | R8: =IF(ISERROR($V8),"",OFFSET('Smelter Look-up'!$C$4,$V8-4,0)&"") -> Toyo Smelter & Refinery, Sumitomo Metal Mining | S8: =IF(B9="","",IF(ISERROR(MATCH($E9,CL,0)),"Unknown",INDIRECT("'C'!$A$"&MATCH($E9,CL,0)+1))) | T8: =IF(B8="","",IF(ISERROR(MATCH($J8,SorP!$B$1:$B$6261,0)),"",INDIRECT("'SorP'!$A$"&MATCH($S8&$J8,SorP!C:C,0)))) -> #N/A | V8: =IF(C8="",NA(),MATCH($B8&$C8,'Smelter Look-up'!$J:$J,0)) -> 362 | X8: =IF(AND(C8="Smelter not listed",OR(LEN(D8)=0,LEN(E8)=0)),1,0) -> 0 | AB8: =IF(C8="","",B8) -> Copper | AC8: =B8 -> Copper | AD8: =IF(C8="Smelter not listed",D8,C8) -> Toyo Smelter & Refinery, Sumitomo Metal Mining
E9: =IF(ISERROR($V9),"",OFFSET('Smelter Look-up'!$D$4,$V9-4,0)&"") | F9: =IF(ISERROR($V9),"",OFFSET('Smelter Look-up'!$E$4,$V9-4,0)) | G9: =IF(C9=$X$4,"Enter smelter details",IF(ISERROR($V9),"",OFFSET('Smelter Look-up'!$F$4,$V9-4,0))) | H9: =IF(ISERROR($V9),"",OFFSET('Smelter Look-up'!$G$4,$V9-4,0)) | I9: =IF(ISERROR($V9),"",OFFSET('Smelter Look-up'!$H$4,$V9-4,0)) | J9: =IF(ISERROR($V9),"",OFFSET('Smelter Look-up'!$I$4,$V9-4,0)) | R9: =IF(ISERROR($V9),"",OFFSET('Smelter Look-up'!$C$4,$V9-4,0)&"") | S9: =IF(B10="","",IF(ISERROR(MATCH($E10,CL,0)),"Unknown",INDIRECT("'C'!$A$"&MATCH($E10,CL,0)+1))) | T9: =IF(B9="","",IF(ISERROR(MATCH($J9,SorP!$B$1:$B$6261,0)),"",INDIRECT("'SorP'!$A$"&MATCH($S9&$J9,SorP!C:C,0)))) | V9: =IF(C9="",NA(),MATCH($B9&$C9,'Smelter Look-up'!$J:$J,0)) -> #N/A | X9: =IF(AND(C9="Smelter not listed",OR(LEN(D9)=0,LEN(E9)=0)),1,0) -> 0 | AB9: =IF(C9="","",B9) | AC9: =B9 -> 0 | AD9: =IF(C9="Smelter not listed",D9,C9) -> 0
B10: =IF(LEN(A10)=0,"",INDEX('Smelter Look-up'!$A:$A,MATCH($A10,'Smelter Look-up'!$E:$E,0))) | C10: =IF(LEN(A10)=0,"",INDEX('Smelter Look-up'!$C:$C,MATCH($A10,'Smelter Look-up'!$E:$E,0))) | E10: =IF(ISERROR($V10),"",OFFSET('Smelter Look-up'!$D$4,$V10-4,0)&"") | F10: =IF(ISERROR($V10),"",OFFSET('Smelter Look-up'!$E$4,$V10-4,0)) | G10: =IF(C10=$X$4,"Enter smelter details",IF(ISERROR($V10),"",OFFSET('Smelter Look-up'!$F$4,$V10-4,0))) | H10: =IF(ISERROR($V10),"",OFFSET('Smelter Look-up'!$G$4,$V10-4,0)) | I10: =IF(ISERROR($V10),"",OFFSET('Smelter Look-up'!$H$4,$V10-4,0)) | J10: =IF(ISERROR($V10),"",OFFSET('Smelter Look-up'!$I$4,$V10-4,0)) | R10: =IF(ISERROR($V10),"",OFFSET('Smelter Look-up'!$C$4,$V10-4,0)&"") | S10: =IF(B11="","",IF(ISERROR(MATCH($E11,CL,0)),"Unknown",INDIRECT("'C'!$A$"&MATCH($E11,CL,0)+1))) | T10: =IF(B10="","",IF(ISERROR(MATCH($J10,SorP!$B$1:$B$6261,0)),"",INDIRECT("'SorP'!$A$"&MATCH($S10&$J10,SorP!C:C,0)))) | V10: =IF(C10="",NA(),MATCH($B10&$C10,'Smelter Look-up'!$J:$J,0)) -> #N/A | X10: =IF(AND(C10="Smelter not listed",OR(LEN(D10)=0,LEN(E10)=0)),1,0) -> 0 | AB10: =IF(C10="","",B10) | AC10: =B10 | AD10: =IF(C10="Smelter not listed",D10,C10)
B11: =IF(LEN(A11)=0,"",INDEX('Smelter Look-up'!$A:$A,MATCH($A11,'Smelter Look-up'!$E:$E,0))) | C11: =IF(LEN(A11)=0,"",INDEX('Smelter Look-up'!$C:$C,MATCH($A11,'Smelter Look-up'!$E:$E,0))) | E11: =IF(ISERROR($V11),"",OFFSET('Smelter Look-up'!$D$4,$V11-4,0)&"") | F11: =IF(ISERROR($V11),"",OFFSET('Smelter Look-up'!$E$4,$V11-4,0)) | G11: =IF(C11=$X$4,"Enter smelter details",IF(ISERROR($V11),"",OFFSET('Smelter Look-up'!$F$4,$V11-4,0))) | H11: =IF(ISERROR($V11),"",OFFSET('Smelter Look-up'!$G$4,$V11-4,0)) | I11: =IF(ISERROR($V11),"",OFFSET('Smelter Look-up'!$H$4,$V11-4,0)) | J11: =IF(ISERROR($V11),"",OFFSET('Smelter Look-up'!$I$4,$V11-4,0)) | R11: =IF(ISERROR($V11),"",OFFSET('Smelter Look-up'!$C$4,$V11-4,0)&"") | S11: =IF(B11="","",IF(ISERROR(MATCH($E11,CL,0)),"Unknown",INDIRECT("'C'!$A$"&MATCH($E11,CL,0)+1))) | T11: =IF(B11="","",IF(ISERROR(MATCH($J11,SorP!$B$1:$B$6261,0)),"",INDIRECT("'SorP'!$A$"&MATCH($S11&$J11,SorP!C:C,0)))) | V11: =IF(C11="",NA(),MATCH($B11&$C11,'Smelter Look-up'!$J:$J,0)) -> #N/A | X11: =IF(AND(C11="Smelter not listed",OR(LEN(D11)=0,LEN(E11)=0)),1,0) -> 0 | AB11: =IF(C11="","",B11) | AC11: =B11 | AD11: =IF(C11="Smelter not listed",D11,C11)
B12: =IF(LEN(A12)=0,"",INDEX('Smelter Look-up'!$A:$A,MATCH($A12,'Smelter Look-up'!$E:$E,0))) | C12: =IF(LEN(A12)=0,"",INDEX('Smelter Look-up'!$C:$C,MATCH($A12,'Smelter Look-up'!$E:$E,0))) | E12: =IF(ISERROR($V12),"",OFFSET('Smelter Look-up'!$D$4,$V12-4,0)&"") | F12: =IF(ISERROR($V12),"",OFFSET('Smelter Look-up'!$E$4,$V12-4,0)) | G12: =IF(C12=$X$4,"Enter smelter details",IF(ISERROR($V12),"",OFFSET('Smelter Look-up'!$F$4,$V12-4,0))) | H12: =IF(ISERROR($V12),"",OFFSET('Smelter Look-up'!$G$4,$V12-4,0)) | I12: =IF(ISERROR($V12),"",OFFSET('Smelter Look-up'!$H$4,$V12-4,0)) | J12: =IF(ISERROR($V12),"",OFFSET('Smelter Look-up'!$I$4,$V12-4,0)) | R12: =IF(ISERROR($V12),"",OFFSET('Smelter Look-up'!$C$4,$V12-4,0)&"") | S12: =IF(B12="","",IF(ISERROR(MATCH($E12,CL,0)),"Unknown",INDIRECT("'C'!$A$"&MATCH($E12,CL,0)+1))) | T12: =IF(B12="","",IF(ISERROR(MATCH($J12,SorP!$B$1:$B$6261,0)),"",INDIRECT("'SorP'!$A$"&MATCH($S12&$J12,SorP!C:C,0)))) | V12: =IF(C12="",NA(),MATCH($B12&$C12,'Smelter Look-up'!$J:$J,0)) -> #N/A | X12: =IF(AND(C12="Smelter not listed",OR(LEN(D12)=0,LEN(E12)=0)),1,0) -> 0 | AB12: =IF(C12="","",B12) | AC12: =B12 | AD12: =IF(C12="Smelter not listed",D12,C12)
B13: =IF(LEN(A13)=0,"",INDEX('Smelter Look-up'!$A:$A,MATCH($A13,'Smelter Look-up'!$E:$E,0))) | C13: =IF(LEN(A13)=0,"",INDEX('Smelter Look-up'!$C:$C,MATCH($A13,'Smelter Look-up'!$E:$E,0))) | E13: =IF(ISERROR($V13),"",OFFSET('Smelter Look-up'!$D$4,$V13-4,0)&"") | F13: =IF(ISERROR($V13),"",OFFSET('Smelter Look-up'!$E$4,$V13-4,0)) | G13: =IF(C13=$X$4,"Enter smelter details",IF(ISERROR($V13),"",OFFSET('Smelter Look-up'!$F$4,$V13-4,0))) | H13: =IF(ISERROR($V13),"",OFFSET('Smelter Look-up'!$G$4,$V13-4,0)) | I13: =IF(ISERROR($V13),"",OFFSET('Smelter Look-up'!$H$4,$V13-4,0)) | J13: =IF(ISERROR($V13),"",OFFSET('Smelter Look-up'!$I$4,$V13-4,0)) | R13: =IF(ISERROR($V13),"",OFFSET('Smelter Look-up'!$C$4,$V13-4,0)&"") | S13: =IF(B13="","",IF(ISERROR(MATCH($E13,CL,0)),"Unknown",INDIRECT("'C'!$A$"&MATCH($E13,CL,0)+1))) | T13: =IF(B13="","",IF(ISERROR(MATCH($J13,SorP!$B$1:$B$6261,0)),"",INDIRECT("'SorP'!$A$"&MATCH($S13&$J13,SorP!C:C,0)))) | V13: =IF(C13="",NA(),MATCH($B13&$C13,'Smelter Look-up'!$J:$J,0)) -> #N/A | X13: =IF(AND(C13="Smelter not listed",OR(LEN(D13)=0,LEN(E13)=0)),1,0) -> 0 | AB13: =IF(C13="","",B13) | AC13: =B13 | AD13: =IF(C13="Smelter not listed",D13,C13)
B14: =IF(LEN(A14)=0,"",INDEX('Smelter Look-up'!$A:$A,MATCH($A14,'Smelter Look-up'!$E:$E,0))) | C14: =IF(LEN(A14)=0,"",INDEX('Smelter Look-up'!$C:$C,MATCH($A14,'Smelter Look-up'!$E:$E,0))) | E14: =IF(ISERROR($V14),"",OFFSET('Smelter Look-up'!$D$4,$V14-4,0)&"") | F14: =IF(ISERROR($V14),"",OFFSET('Smelter Look-up'!$E$4,$V14-4,0)) | G14: =IF(C14=$X$4,"Enter smelter details",IF(ISERROR($V14),"",OFFSET('Smelter Look-up'!$F$4,$V14-4,0))) | H14: =IF(ISERROR($V14),"",OFFSET('Smelter Look-up'!$G$4,$V14-4,0)) | I14: =IF(ISERROR($V14),"",OFFSET('Smelter Look-up'!$H$4,$V14-4,0)) | J14: =IF(ISERROR($V14),"",OFFSET('Smelter Look-up'!$I$4,$V14-4,0)) | R14: =IF(ISERROR($V14),"",OFFSET('Smelter Look-up'!$C$4,$V14-4,0)&"") | S14: =IF(B14="","",IF(ISERROR(MATCH($E14,CL,0)),"Unknown",INDIRECT("'C'!$A$"&MATCH($E14,CL,0)+1))) | T14: =IF(B14="","",IF(ISERROR(MATCH($J14,SorP!$B$1:$B$6261,0)),"",INDIRECT("'SorP'!$A$"&MATCH($S14&$J14,SorP!C:C,0)))) | V14: =IF(C14="",NA(),MATCH($B14&$C14,'Smelter Look-up'!$J:$J,0)) -> #N/A | X14: =IF(AND(C14="Smelter not listed",OR(LEN(D14)=0,LEN(E14)=0)),1,0) -> 0 | AB14: =IF(C14="","",B14) | AC14: =B14 | AD14: =IF(C14="Smelter not listed",D14,C14)
B15: =IF(LEN(A15)=0,"",INDEX('Smelter Look-up'!$A:$A,MATCH($A15,'Smelter Look-up'!$E:$E,0))) | C15: =IF(LEN(A15)=0,"",INDEX('Smelter Look-up'!$C:$C,MATCH($A15,'Smelter Look-up'!$E:$E,0))) | E15: =IF(ISERROR($V15),"",OFFSET('Smelter Look-up'!$D$4,$V15-4,0)&"") | F15: =IF(ISERROR($V15),"",OFFSET('Smelter Look-up'!$E$4,$V15-4,0)) | G15: =IF(C15=$X$4,"Enter smelter details",IF(ISERROR($V15),"",OFFSET('Smelter Look-up'!$F$4,$V15-4,0))) | H15: =IF(ISERROR($V15),"",OFFSET('Smelter Look-up'!$G$4,$V15-4,0)) | I15: =IF(ISERROR($V15),"",OFFSET('Smelter Look-up'!$H$4,$V15-4,0)) | J15: =IF(ISERROR($V15),"",OFFSET('Smelter Look-up'!$I$4,$V15-4,0)) | R15: =IF(ISERROR($V15),"",OFFSET('Smelter Look-up'!$C$4,$V15-4,0)&"") | S15: =IF(B15="","",IF(ISERROR(MATCH($E15,CL,0)),"Unknown",INDIRECT("'C'!$A$"&MATCH($E15,CL,0)+1))) | T15: =IF(B15="","",IF(ISERROR(MATCH($J15,SorP!$B$1:$B$6261,0)),"",INDIRECT("'SorP'!$A$"&MATCH($S15&$J15,SorP!C:C,0)))) | V15: =IF(C15="",NA(),MATCH($B15&$C15,'Smelter Look-up'!$J:$J,0)) -> #N/A | X15: =IF(AND(C15="Smelter not listed",OR(LEN(D15)=0,LEN(E15)=0)),1,0) -> 0 | AB15: =IF(C15="","",B15) | AC15: =B15 | AD15: =IF(C15="Smelter not listed",D15,C15)
B16: =IF(LEN(A16)=0,"",INDEX('Smelter Look-up'!$A:$A,MATCH($A16,'Smelter Look-up'!$E:$E,0))) | C16: =IF(LEN(A16)=0,"",INDEX('Smelter Look-up'!$C:$C,MATCH($A16,'Smelter Look-up'!$E:$E,0))) | E16: =IF(ISERROR($V16),"",OFFSET('Smelter Look-up'!$D$4,$V16-4,0)&"") | F16: =IF(ISERROR($V16),"",OFFSET('Smelter Look-up'!$E$4,$V16-4,0)) | G16: =IF(C16=$X$4,"Enter smelter details",IF(ISERROR($V16),"",OFFSET('Smelter Look-up'!$F$4,$V16-4,0))) | H16: =IF(ISERROR($V16),"",OFFSET('Smelter Look-up'!$G$4,$V16-4,0)) | I16: =IF(ISERROR($V16),"",OFFSET('Smelter Look-up'!$H$4,$V16-4,0)) | J16: =IF(ISERROR($V16),"",OFFSET('Smelter Look-up'!$I$4,$V16-4,0)) | R16: =IF(ISERROR($V16),"",OFFSET('Smelter Look-up'!$C$4,$V16-4,0)&"") | S16: =IF(B16="","",IF(ISERROR(MATCH($E16,CL,0)),"Unknown",INDIRECT("'C'!$A$"&MATCH($E16,CL,0)+1))) | T16: =IF(B16="","",IF(ISERROR(MATCH($J16,SorP!$B$1:$B$6261,0)),"",INDIRECT("'SorP'!$A$"&MATCH($S16&$J16,SorP!C:C,0)))) | V16: =IF(C16="",NA(),MATCH($B16&$C16,'Smelter Look-up'!$J:$J,0)) -> #N/A | X16: =IF(AND(C16="Smelter not listed",OR(LEN(D16)=0,LEN(E16)=0)),1,0) -> 0 | AB16: =IF(C16="","",B16) | AC16: =B16 | AD16: =IF(C16="Smelter not listed",D16,C16)
B17: =IF(LEN(A17)=0,"",INDEX('Smelter Look-up'!$A:$A,MATCH($A17,'Smelter Look-up'!$E:$E,0))) | C17: =IF(LEN(A17)=0,"",INDEX('Smelter Look-up'!$C:$C,MATCH($A17,'Smelter Look-up'!$E:$E,0))) | E17: =IF(ISERROR($V17),"",OFFSET('Smelter Look-up'!$D$4,$V17-4,0)&"") | F17: =IF(ISERROR($V17),"",OFFSET('Smelter Look-up'!$E$4,$V17-4,0)) | G17: =IF(C17=$X$4,"Enter smelter details",IF(ISERROR($V17),"",OFFSET('Smelter Look-up'!$F$4,$V17-4,0))) | H17: =IF(ISERROR($V17),"",OFFSET('Smelter Look-up'!$G$4,$V17-4,0)) | I17: =IF(ISERROR($V17),"",OFFSET('Smelter Look-up'!$H$4,$V17-4,0)) | J17: =IF(ISERROR($V17),"",OFFSET('Smelter Look-up'!$I$4,$V17-4,0)) | R17: =IF(ISERROR($V17),"",OFFSET('Smelter Look-up'!$C$4,$V17-4,0)&"") | S17: =IF(B17="","",IF(ISERROR(MATCH($E17,CL,0)),"Unknown",INDIRECT("'C'!$A$"&MATCH($E17,CL,0)+1))) | T17: =IF(B17="","",IF(ISERROR(MATCH($J17,SorP!$B$1:$B$6261,0)),"",INDIRECT("'SorP'!$A$"&MATCH($S17&$J17,SorP!C:C,0)))) | V17: =IF(C17="",NA(),MATCH($B17&$C17,'Smelter Look-up'!$J:$J,0)) -> #N/A | X17: =IF(AND(C17="Smelter not listed",OR(LEN(D17)=0,LEN(E17)=0)),1,0) -> 0 | AB17: =IF(C17="","",B17) | AC17: =B17 | AD17: =IF(C17="Smelter not listed",D17,C17)
